BEGIN:VCALENDAR
VERSION:2.0
PRODID:-//Tukios.com/
BEGIN:VEVENT
UID:ccb09ed2-3764-4ead-ac52-9a62e2eb438b@www.palmsfuneralhome.com
DTSTAMP:20260421T171034Z
DTSTART:20260509T190000Z
DTEND:20260509T200000Z
SUMMARY:Interment
DESCRIPTION:
URL:https://www.palmsfuneralhome.com/obituaries/ray-lil-elvis-rubio
LOCATION: 328 Cemetery Road  Angleton TX 77515
GEO:29.149037;-95.4257389
END:VEVENT
END:VCALENDAR