BEGIN:VCALENDAR
VERSION:2.0
PRODID:-//Tukios.com/
BEGIN:VEVENT
UID:47d8514b-4dc7-49bc-a1d9-96a2298a8688@www.palmsfuneralhome.com
DTSTAMP:20260421T171558Z
DTSTART:20260509T170000Z
DTEND:20260509T190000Z
SUMMARY:Visitation
DESCRIPTION:
URL:https://www.palmsfuneralhome.com/obituaries/ray-lil-elvis-rubio
LOCATION: 2300 East Mulberry Street  Angleton TX 77515
GEO:29.1855575;-95.4069349
END:VEVENT
END:VCALENDAR