BEGIN:VCALENDAR
VERSION:2.0
PRODID:-//Tukios.com/
BEGIN:VEVENT
UID:7b84a245-5cc8-462f-a804-5213b42812ab@www.palmsfuneralhome.com
DTSTAMP:20260424T013645Z
DTSTART:20260429T160000Z
DTEND:20260429T170000Z
SUMMARY:Burial
DESCRIPTION:
URL:https://www.palmsfuneralhome.com/obituaries/manuel-villarreal
LOCATION: 328 Cemetery Road  Angleton TX 77515
GEO:29.149037;-95.4257389
END:VEVENT
END:VCALENDAR