BEGIN:VCALENDAR
VERSION:2.0
PRODID:-//Tukios.com/
BEGIN:VEVENT
UID:feab4d3c-0bf1-4305-b398-53bd308498d8@www.palmsfuneralhome.com
DTSTAMP:20260424T013549Z
DTSTART:20260429T150000Z
DTEND:20260429T160000Z
SUMMARY:Funeral Service
DESCRIPTION:
URL:https://www.palmsfuneralhome.com/obituaries/manuel-villarreal
LOCATION: 1713 North Tinsley Street  Angleton TX 77515
GEO:29.1781399;-95.4234232
END:VEVENT
END:VCALENDAR