BEGIN:VCALENDAR
VERSION:2.0
PRODID:-//Tukios.com/
BEGIN:VEVENT
UID:2de1ee2c-541a-42cb-bc51-660d3235f6bf@www.palmsfuneralhome.com
DTSTAMP:20260424T013645Z
DTSTART:20260429T000000Z
DTEND:20260429T010000Z
SUMMARY:Rosary
DESCRIPTION:
URL:https://www.palmsfuneralhome.com/obituaries/manuel-villarreal
LOCATION: 2300 East Mulberry  Angleton TX 77515
GEO:29.1855575;-95.4069349
END:VEVENT
END:VCALENDAR