BEGIN:VCALENDAR
VERSION:2.0
PRODID:-//Tukios.com/
BEGIN:VEVENT
UID:06461004-18cf-458f-b255-ec7d4b7eb157@www.palmsfuneralhome.com
DTSTAMP:20260424T013549Z
DTSTART:20260428T220000Z
DTEND:20260429T000000Z
SUMMARY:Visitation
DESCRIPTION:
URL:https://www.palmsfuneralhome.com/obituaries/manuel-villarreal
LOCATION: 2300 East Mulberry  Angleton TX 77515
GEO:29.1855575;-95.4069349
END:VEVENT
END:VCALENDAR