BEGIN:VCALENDAR
VERSION:2.0
PRODID:-//Tukios.com/
BEGIN:VEVENT
UID:f80bd307-46e8-4305-95da-57e00bc8a5b5@www.palmsfuneralhome.com
DTSTAMP:20260424T003756Z
DTSTART:20260428T140000Z
DTEND:20260428T150000Z
SUMMARY:Funeral Service
DESCRIPTION:
URL:https://www.palmsfuneralhome.com/obituaries/david-rice
LOCATION:St. Anthony's Catholic Church 1523 Main St  Danbury TX 77534
GEO:29.2309479;-95.3479124
END:VEVENT
END:VCALENDAR