BEGIN:VCALENDAR
VERSION:2.0
PRODID:-//Tukios.com/
BEGIN:VEVENT
UID:20e187b9-b9d8-48c2-9fdf-f42b1a588d2f@www.palmsfuneralhome.com
DTSTAMP:20260424T003700Z
DTSTART:20260427T210000Z
DTEND:20260427T230000Z
SUMMARY:Visitation
DESCRIPTION:
URL:https://www.palmsfuneralhome.com/obituaries/david-rice
LOCATION:Palms Funeral Home 2300 East Mulberry  Angleton TX 77515
GEO:29.1855575;-95.4069349
END:VEVENT
END:VCALENDAR